BEGIN:VCALENDAR
VERSION:2.0
PRODID:-//Good Business Charter - ECPv6.15.18//NONSGML v1.0//EN
CALSCALE:GREGORIAN
METHOD:PUBLISH
X-WR-CALNAME:Good Business Charter
X-ORIGINAL-URL:https://goodbusinesscharter.com
X-WR-CALDESC:Events for Good Business Charter
REFRESH-INTERVAL;VALUE=DURATION:PT1H
X-Robots-Tag:noindex
X-PUBLISHED-TTL:PT1H
BEGIN:VTIMEZONE
TZID:Europe/London
BEGIN:DAYLIGHT
TZOFFSETFROM:+0000
TZOFFSETTO:+0100
TZNAME:BST
DTSTART:20230326T010000
END:DAYLIGHT
BEGIN:STANDARD
TZOFFSETFROM:+0100
TZOFFSETTO:+0000
TZNAME:GMT
DTSTART:20231029T010000
END:STANDARD
BEGIN:DAYLIGHT
TZOFFSETFROM:+0000
TZOFFSETTO:+0100
TZNAME:BST
DTSTART:20240331T010000
END:DAYLIGHT
BEGIN:STANDARD
TZOFFSETFROM:+0100
TZOFFSETTO:+0000
TZNAME:GMT
DTSTART:20241027T010000
END:STANDARD
BEGIN:DAYLIGHT
TZOFFSETFROM:+0000
TZOFFSETTO:+0100
TZNAME:BST
DTSTART:20250330T010000
END:DAYLIGHT
BEGIN:STANDARD
TZOFFSETFROM:+0100
TZOFFSETTO:+0000
TZNAME:GMT
DTSTART:20251026T010000
END:STANDARD
END:VTIMEZONE
BEGIN:VEVENT
DTSTART;TZID=Europe/London:20240522T120000
DTEND;TZID=Europe/London:20240522T124500
DTSTAMP:20260422T110028
CREATED:20240516T103113Z
LAST-MODIFIED:20240523T172231Z
UID:19335-1716379200-1716381900@goodbusinesscharter.com
SUMMARY:CATCH-UP How to achieve good business accreditation
DESCRIPTION:Catch-up on Heart of the City’s insightful online Lunch and Learn session with Good Business Charter (GBC) to find out how to become accredited\, and why it’s important to your business\, and to your employees. \nAccreditations help provide market differentiation and proof that you comply with best practice. Applying for accreditations offer a chance for a reflection on your responsible business journey and could highlight areas of development. Buyers\, funders and suppliers are increasingly looking for businesses that are behaving socially and environmentally responsibly. \nWhy attend \nGBC CEO\, Jenny Herrera\, joined Heart of the City for this engaging and interactive online workshop. Jenny introduced the Good Business Charter and its significance for SMEs committed to responsible business practices. \nJenny shared examples from accredited SMEs to illustrate the wide-ranging benefits of being recognised for your responsible business behaviour. She focused on how the framework helps to address specific areas such as ethical sourcing\, equality\, diversity and inclusion and employee representation. \nAgenda \n\nHeart of the City introduction (5 minutes)\nPresentation from Jenny Herrera (25 minutes)\nQ&A and wrap-up (15 minutes)\n\n  \nCatch-up here
URL:https://goodbusinesscharter.com/single-event/lunch-and-learn-how-to-achieve-good-business-accreditation/
LOCATION:Zoom
ATTACH;FMTTYPE=image/png:https://goodbusinesscharter.com/wp-content/uploads/2024/05/Screenshot-2024-05-16-113053.png
END:VEVENT
BEGIN:VEVENT
DTSTART;TZID=Europe/London:20240319T123000
DTEND;TZID=Europe/London:20240319T133000
DTSTAMP:20260422T110028
CREATED:20240516T103644Z
LAST-MODIFIED:20240523T172417Z
UID:19338-1710851400-1710855000@goodbusinesscharter.com
SUMMARY:CATCH-UP: What about the People? How your organisation can showcase its social impact
DESCRIPTION:Catch-up on the Investors in the Environment webinar to hear about Good Business Charter with GBC CEO\, Jenny Herrera. \n97% of consumers believe businesses could act responsibly\, and almost half of younger workers are asking employers what their ESG stance is. How can businesses show they are responsible in a way that is clear and covers all the key areas\, upholding standards in how they treat their staff and wider stakeholders\, as well as minimising their environmental impact and still generating a profit? Jenny Herrera\, CEO of the Good Business Charter talks about why we need to champion the S in ESG more emphatically and unpacks the benefits that an approach framed around Good Business Charter accreditation can bring for your whole organisation. \nThe Good Business Charter’s aims complement those of Investors in the Environment. During the webinar\, we’ll hear from iiE members who have already joined GBC and the benefits they have derived from being Good and Green. \n  \nCatch-up here
URL:https://goodbusinesscharter.com/single-event/catch-up-what-about-the-people-how-your-organisation-can-showcase-its-social-impact/
ATTACH;FMTTYPE=image/png:https://goodbusinesscharter.com/wp-content/uploads/2024/05/Screenshot-2024-05-16-113623.png
END:VEVENT
BEGIN:VEVENT
DTSTART;TZID=Europe/London:20240123T130000
DTEND;TZID=Europe/London:20240123T140000
DTSTAMP:20260422T110028
CREATED:20240709T075602Z
LAST-MODIFIED:20240709T075657Z
UID:20183-1706014800-1706018400@goodbusinesscharter.com
SUMMARY:CATCH-UP: Tackling Inequality Through Responsible Business Practice
DESCRIPTION:Our CEO\, Jenny Herrera\, and TSB’s Kate Osiadacz\, joined The Equality Trust to discuss how and why businesses have used the Good Business Charter principles to maintain profitability and make a positive impact on society. \n  \nCatch-up here
URL:https://goodbusinesscharter.com/single-event/catch-up-tackling-inequality-through-responsible-business-practice/
LOCATION:Virtual
ATTACH;FMTTYPE=image/jpeg:https://goodbusinesscharter.com/wp-content/uploads/2024/07/microsoft-365-bWL-c09Ys80-unsplash.jpg
END:VEVENT
END:VCALENDAR